BEGIN:VCALENDAR
VERSION:2.0
PRODID:-//SDSC StudentTech - ECPv6.8.1//NONSGML v1.0//EN
CALSCALE:GREGORIAN
METHOD:PUBLISH
X-ORIGINAL-URL:https://education.sdsc.edu/studenttech
X-WR-CALDESC:Events for SDSC StudentTech
REFRESH-INTERVAL;VALUE=DURATION:PT1H
X-Robots-Tag:noindex
X-PUBLISHED-TTL:PT1H
BEGIN:VTIMEZONE
TZID:America/Los_Angeles
BEGIN:DAYLIGHT
TZOFFSETFROM:-0800
TZOFFSETTO:-0700
TZNAME:PDT
DTSTART:20250309T100000
END:DAYLIGHT
BEGIN:STANDARD
TZOFFSETFROM:-0700
TZOFFSETTO:-0800
TZNAME:PST
DTSTART:20251102T090000
END:STANDARD
BEGIN:DAYLIGHT
TZOFFSETFROM:-0800
TZOFFSETTO:-0700
TZNAME:PDT
DTSTART:20260308T100000
END:DAYLIGHT
BEGIN:STANDARD
TZOFFSETFROM:-0700
TZOFFSETTO:-0800
TZNAME:PST
DTSTART:20261101T090000
END:STANDARD
END:VTIMEZONE
BEGIN:VEVENT
DTSTART;TZID=America/Los_Angeles:20250616T080000
DTEND;TZID=America/Los_Angeles:20250718T170000
DTSTAMP:20260425T071720
CREATED:20250402T063755Z
LAST-MODIFIED:20250402T063755Z
UID:6855-1750060800-1752858000@education.sdsc.edu
SUMMARY:Anita Borg Leadership and Engagement (ABLE) Advanced Research Experience
DESCRIPTION:
URL:https://education.sdsc.edu/studenttech/event/anita-borg-leadership-and-engagement-able-advanced-research-experience/
END:VEVENT
BEGIN:VEVENT
DTSTART;TZID=America/Los_Angeles:20250616T080000
DTEND;TZID=America/Los_Angeles:20250808T170000
DTSTAMP:20260425T071720
CREATED:20250402T063140Z
LAST-MODIFIED:20250402T063140Z
UID:6853-1750060800-1754672400@education.sdsc.edu
SUMMARY:Research Experience for High Schoolers (REHS) Program 2025
DESCRIPTION:
URL:https://education.sdsc.edu/studenttech/event/research-experience-for-high-schoolers-rehs-program-2025/
END:VEVENT
BEGIN:VEVENT
DTSTART;TZID=America/Los_Angeles:20250806T140000
DTEND;TZID=America/Los_Angeles:20250806T170000
DTSTAMP:20260425T071720
CREATED:20250324T085115Z
LAST-MODIFIED:20250630T002304Z
UID:6832-1754488800-1754499600@education.sdsc.edu
SUMMARY:Research Experience for High Schoolers (REHS) Project Showcase
DESCRIPTION:
URL:https://education.sdsc.edu/studenttech/event/rehs-showcase/
LOCATION:SDSC Building 2nd Floor\, 9836 Hopkins Dr\, La Jolla\, CA\, 92093\, United States
CATEGORIES:REHS
ATTACH;FMTTYPE=image/png:https://education.sdsc.edu/studenttech/wp-content/uploads/2025/03/REHS-logo.png
ORGANIZER;CN="John Doe":MAILTO:testemail@gmail.com
END:VEVENT
BEGIN:VEVENT
DTSTART;TZID=America/Los_Angeles:20251001T080000
DTEND;TZID=America/Los_Angeles:20260531T170000
DTSTAMP:20260425T071720
CREATED:20250402T064308Z
LAST-MODIFIED:20250402T064308Z
UID:6857-1759305600-1780246800@education.sdsc.edu
SUMMARY:UCSD Mentor Assistance Program (MAP) Program
DESCRIPTION:
URL:https://education.sdsc.edu/studenttech/event/ucsd-mentor-assistance-program-map-program/
END:VEVENT
END:VCALENDAR