BEGIN:VCALENDAR
VERSION:2.0
PRODID:-//SDSC StudentTech - ECPv6.8.1//NONSGML v1.0//EN
CALSCALE:GREGORIAN
METHOD:PUBLISH
X-ORIGINAL-URL:https://education.sdsc.edu/studenttech
X-WR-CALDESC:Events for SDSC StudentTech
REFRESH-INTERVAL;VALUE=DURATION:PT1H
X-Robots-Tag:noindex
X-PUBLISHED-TTL:PT1H
BEGIN:VTIMEZONE
TZID:America/Los_Angeles
BEGIN:DAYLIGHT
TZOFFSETFROM:-0800
TZOFFSETTO:-0700
TZNAME:PDT
DTSTART:20250309T100000
END:DAYLIGHT
BEGIN:STANDARD
TZOFFSETFROM:-0700
TZOFFSETTO:-0800
TZNAME:PST
DTSTART:20251102T090000
END:STANDARD
END:VTIMEZONE
BEGIN:VEVENT
DTSTART;TZID=America/Los_Angeles:20250523T163000
DTEND;TZID=America/Los_Angeles:20250523T183000
DTSTAMP:20260425T042520
CREATED:20250402T062144Z
LAST-MODIFIED:20250402T062144Z
UID:6845-1748017800-1748025000@education.sdsc.edu
SUMMARY:MAP 10th Annual Research Symposium
DESCRIPTION:
URL:https://education.sdsc.edu/studenttech/event/map-10th-annual-research-symposium/
LOCATION:SDSC Auditorium\, 9836 Hopkins Dr\, La Jolla\, CA\, 92093\, United States
END:VEVENT
END:VCALENDAR