BEGIN:VCALENDAR
VERSION:2.0
PRODID:-//SDSC StudentTech - ECPv6.8.1//NONSGML v1.0//EN
CALSCALE:GREGORIAN
METHOD:PUBLISH
X-WR-CALNAME:SDSC StudentTech
X-ORIGINAL-URL:https://education.sdsc.edu/studenttech
X-WR-CALDESC:Events for SDSC StudentTech
REFRESH-INTERVAL;VALUE=DURATION:PT1H
X-Robots-Tag:noindex
X-PUBLISHED-TTL:PT1H
BEGIN:VTIMEZONE
TZID:America/Los_Angeles
BEGIN:DAYLIGHT
TZOFFSETFROM:-0800
TZOFFSETTO:-0700
TZNAME:PDT
DTSTART:20250309T100000
END:DAYLIGHT
BEGIN:STANDARD
TZOFFSETFROM:-0700
TZOFFSETTO:-0800
TZNAME:PST
DTSTART:20251102T090000
END:STANDARD
END:VTIMEZONE
BEGIN:VEVENT
DTSTART;TZID=America/Los_Angeles:20250415T080000
DTEND;TZID=America/Los_Angeles:20250515T170000
DTSTAMP:20260425T042401
CREATED:20250402T062447Z
LAST-MODIFIED:20250402T062636Z
UID:6848-1744704000-1747328400@education.sdsc.edu
SUMMARY:MAP Application Process
DESCRIPTION:
URL:https://education.sdsc.edu/studenttech/event/map-application-process-opens/
END:VEVENT
END:VCALENDAR